BEGIN:VCALENDAR
VERSION:2.0
PRODID:-//CeTI - ECPv6.15.20//NONSGML v1.0//EN
CALSCALE:GREGORIAN
METHOD:PUBLISH
X-WR-CALNAME:CeTI
X-ORIGINAL-URL:https://ceti.one
X-WR-CALDESC:Events for CeTI
REFRESH-INTERVAL;VALUE=DURATION:PT1H
X-Robots-Tag:noindex
X-PUBLISHED-TTL:PT1H
BEGIN:VTIMEZONE
TZID:Europe/Berlin
BEGIN:DAYLIGHT
TZOFFSETFROM:+0100
TZOFFSETTO:+0200
TZNAME:CEST
DTSTART:20240331T010000
END:DAYLIGHT
BEGIN:STANDARD
TZOFFSETFROM:+0200
TZOFFSETTO:+0100
TZNAME:CET
DTSTART:20241027T010000
END:STANDARD
BEGIN:DAYLIGHT
TZOFFSETFROM:+0100
TZOFFSETTO:+0200
TZNAME:CEST
DTSTART:20250330T010000
END:DAYLIGHT
BEGIN:STANDARD
TZOFFSETFROM:+0200
TZOFFSETTO:+0100
TZNAME:CET
DTSTART:20251026T010000
END:STANDARD
BEGIN:DAYLIGHT
TZOFFSETFROM:+0100
TZOFFSETTO:+0200
TZNAME:CEST
DTSTART:20260329T010000
END:DAYLIGHT
BEGIN:STANDARD
TZOFFSETFROM:+0200
TZOFFSETTO:+0100
TZNAME:CET
DTSTART:20261025T010000
END:STANDARD
BEGIN:DAYLIGHT
TZOFFSETFROM:+0100
TZOFFSETTO:+0200
TZNAME:CEST
DTSTART:20270328T010000
END:DAYLIGHT
BEGIN:STANDARD
TZOFFSETFROM:+0200
TZOFFSETTO:+0100
TZNAME:CET
DTSTART:20271031T010000
END:STANDARD
END:VTIMEZONE
BEGIN:VEVENT
DTSTART;TZID=Europe/Berlin:20250624T170000
DTEND;TZID=Europe/Berlin:20250624T233000
DTSTAMP:20260424T094515
CREATED:20250409T083030Z
LAST-MODIFIED:20250409T094852Z
UID:18112-1750784400-1750807800@ceti.one
SUMMARY:“genialsozial - Your work against poverty” awareness day
DESCRIPTION:Under the patronage of Saxony’s Minister President Michael Kretschmer\, this is now being initiated for the 21st time by the Saxon Youth Foundation. Companies\, associations and other institutions can act as employers for Saxony’s schoolchildren on this day. \nYoung people aged 14 and over can be employed for up to 8 hours on this day and are covered by accident and liability insurance through the school during the activity. The money earned is donated by TU Dresden from central budget funds directly to “genialsozial – your work against poverty” and thus supports social projects locally in Saxony and worldwide. \nCeTI is involved in the day of action as a structural unit of TU Dresden and provides support.
URL:https://ceti.one/events/genialsozial/
CATEGORIES:Event,Workshop
ATTACH;FMTTYPE=image/jpeg:https://ceti.one/wp-content/uploads/2024_04_17_TUD-CeTI-Gymnasium-040-scaled.jpg
END:VEVENT
BEGIN:VEVENT
DTSTART;TZID=Europe/Berlin:20250727T100000
DTEND;TZID=Europe/Berlin:20250727T150000
DTSTAMP:20260424T094515
CREATED:20250527T141328Z
LAST-MODIFIED:20250527T142957Z
UID:18460-1753610400-1753628400@ceti.one
SUMMARY:Father-Child Workshop
DESCRIPTION:July 27\, 2025: Second father-son workshop on robotics at CeTI. \nCeTI invites father-son pairs to a workshop on robotics: All children (girls and boys) between the ages of 8 and 14 are invited to visit the CeTI RoboLab at TU Dresden together with their fathers\, uncles\, grandparents or other male family members. Real robotic arms will be programmed and other robots (e.g. Spot and Ameca) will be shown. \nThe course can accommodate a total of 8 father-child pairs. No prior knowledge is necessary. The workshop is free of charge. \n“Unfortunately\, this course is at full capacity. Please consider joining us for a future session.” \nIf you have any questions\, please contact Marcus Kotte: marcus.kotte@tu-dresden.de
URL:https://ceti.one/events/father-child-workshop-copy-2/
LOCATION:CeTI\, BAR Barkhausen-Bau\, Georg-Schumann-Str. 9\, Dresden\, 01187\, Germany
CATEGORIES:Event,Workshop
ATTACH;FMTTYPE=image/jpeg:https://ceti.one/wp-content/uploads/LNDW-Dresden-by-Tommy-Halfter-96-scaled.jpg
END:VEVENT
BEGIN:VEVENT
DTSTART;TZID=Europe/Berlin:20250821T100000
DTEND;TZID=Europe/Berlin:20250822T150000
DTSTAMP:20260424T094515
CREATED:20250708T143517Z
LAST-MODIFIED:20250708T144842Z
UID:18576-1755770400-1755874800@ceti.one
SUMMARY:tryING
DESCRIPTION:The tryING programme offers female graduate students a unique opportunity to experience the world of engineering first-hand at TU Dresden. Through hands-on workshops\, lectures and campus life\, participants gain valuable insight into the various engineering disciplines. \nCeTI also welcomes participants\, introducing them to cutting-edge technologies and the fascinating field of the tactile internet. \nDiscover your future in engineering – today! \nFor more information\, please visit: https://tu-dresden.de/tu-dresden/universitaetskultur/diversitaet-inklusion/gleichstellung/mint-fuer-frauen/trying?set_language=de
URL:https://ceti.one/events/trying-2/
LOCATION:CeTI\, BAR Barkhausen-Bau\, Georg-Schumann-Str. 9\, Dresden\, 01187\, Germany
CATEGORIES:Event,Workshop
ATTACH;FMTTYPE=image/jpeg:https://ceti.one/wp-content/uploads/2023_09_07_TUD-tryIng-038-scaled.jpg
END:VEVENT
BEGIN:VEVENT
DTSTART;TZID=Europe/Berlin:20250823T100000
DTEND;TZID=Europe/Berlin:20250823T140000
DTSTAMP:20260424T094515
CREATED:20250716T094319Z
LAST-MODIFIED:20250716T122553Z
UID:18632-1755943200-1755957600@ceti.one
SUMMARY:CeTI at MS-Day
DESCRIPTION:The annual MS Day will take place again on 23.08.2025. The Center for Clinical Neurosciences invites you to a day of interesting discussions and informative insights on the topic of multiple sclerosis. \nThere will also be something to “touch”: CeTI will be on site with some demos that are used in the medical field.
URL:https://ceti.one/events/ceti-at-ms-day/
LOCATION:Zentrum für Regenerative Therapien Dresden\, Fetscherstraße 105\, Dresden\, Germany
CATEGORIES:Event
ATTACH;FMTTYPE=image/png:https://ceti.one/wp-content/uploads/MS-Tag-e1752668367219.png
END:VEVENT
BEGIN:VEVENT
DTSTART;TZID=Europe/Berlin:20250911T150000
DTEND;TZID=Europe/Berlin:20250911T190000
DTSTAMP:20260424T094515
CREATED:20250409T095156Z
LAST-MODIFIED:20250409T095931Z
UID:18116-1757602800-1757617200@ceti.one
SUMMARY:Family Festival at TU Dresden
DESCRIPTION:The family festival at TU Dresden offeres an afternoon full of fun\, creativity and varied experiences. \nIn addition to live music\, choreographic dance performances and many other activities\, we once again are presenting the fascinating SPOT robot dogs. Visitors can take the dogs for a walk around the festival grounds and “feed” them with 3D-printed bones and gummy bears.
URL:https://ceti.one/events/family-festival-at-tu-dresden/
LOCATION:TU Dresden\, Helmholtzstraße 10\, Dresden\, 01062
CATEGORIES:Event
ATTACH;FMTTYPE=image/jpeg:https://ceti.one/wp-content/uploads/IMG_0680-1-scaled-e1744192749702.jpg
END:VEVENT
BEGIN:VEVENT
DTSTART;VALUE=DATE:20251104
DTEND;VALUE=DATE:20251106
DTSTAMP:20260424T094515
CREATED:20251103T112102Z
LAST-MODIFIED:20251103T160022Z
UID:19038-1762221600-1762307999@ceti.one
SUMMARY:Robotics Symposium 2025
DESCRIPTION:From groundbreaking technologies to practical use cases and real-world applications to exclusive networking opportunities\, the Robotics Symposium 2025 brings innovation to life. The focus is on visionary minds whose ideas and solutions are shaping the future of robotics. \n\nExperience production\nStrengthen networks\nDiscover future trends\n\nProf. Frank Fitzek\, the cluster’s speaker\, will represent CeTI\, among others. We look forward to a panel discussion on the topic of “Saxony — Passion for Robotics”. Additionally\, a variety of startups that emerged as part of the Cluster of Excellence will be present. \nPicture: © Andre Wirsig
URL:https://ceti.one/events/robotics-symposium/
LOCATION:Private: Gläserne Manufaktur\, Lennéstraße 1\, Dresden\, 01069
CATEGORIES:Event
ATTACH;FMTTYPE=image/jpeg:https://ceti.one/wp-content/uploads/20241202AW104L-scaled.jpg
END:VEVENT
BEGIN:VEVENT
DTSTART;TZID=Europe/Berlin:20251104T173000
DTEND;TZID=Europe/Berlin:20251104T190000
DTSTAMP:20260424T094515
CREATED:20251104T135021Z
LAST-MODIFIED:20251104T135637Z
UID:19049-1762277400-1762282800@ceti.one
SUMMARY:Children's University with Stefanie Speidel at TU Dresden
DESCRIPTION:Prof. Stefanie Speidel speaks at the Children’s University on the topic of surgery of the future: “High-tech instead of band-aids – What will the operating room of the future look like?” \nIn her lecture\, she shows children how surgical robots work and how AI can be used to teach them to perform certain tasks independently. She also explains how these systems can think for themselves during an operation\, provide important information\, and even identify risks at an early stage.
URL:https://ceti.one/events/childrens-university-with-stefanie-speidel/
LOCATION:TU Dresden\, Helmholtzstraße 10\, Dresden\, 01062
CATEGORIES:Event
ATTACH;FMTTYPE=image/png:https://ceti.one/wp-content/uploads/Bildschirmfoto-2025-10-08-um-11.46.51.png
END:VEVENT
BEGIN:VEVENT
DTSTART;TZID=Europe/Berlin:20251111T160000
DTEND;TZID=Europe/Berlin:20251111T173000
DTSTAMP:20260424T094515
CREATED:20251008T140839Z
LAST-MODIFIED:20251009T073418Z
UID:18932-1762876800-1762882200@ceti.one
SUMMARY:Insights into a robotics startup
DESCRIPTION:Are you interested in robotics? Then the excursion to the startup EVASIVE ROBOTICS could be exactly what you’re looking for. Gain insight into the field of work and processes at the TU Dresden startup and see robots up close. \nWe can offer 16 places. The excursion is organized for students in grade 7 and above. It is completely free of charge. \nTo register\, please send an email by November 5 to the following address: ceti@tu-dresden.de \nIf you have any questions\, please contact Jessica Gollmann: jessica.gollmann@tu-dresden.de
URL:https://ceti.one/events/insights-into-a-robotics-startup/
CATEGORIES:Event
ATTACH;FMTTYPE=image/jpeg:https://ceti.one/wp-content/uploads/2023_09_07_TUD-tryIng-014-scaled.jpg
END:VEVENT
BEGIN:VEVENT
DTSTART;TZID=Europe/Berlin:20251118T160000
DTEND;TZID=Europe/Berlin:20251118T173000
DTSTAMP:20260424T094515
CREATED:20251104T135713Z
LAST-MODIFIED:20251104T143633Z
UID:19052-1763481600-1763487000@ceti.one
SUMMARY:Cinnamon rolls baking in the CeTIBAR
DESCRIPTION:In keeping with the pre-Christmas spirit\, CeTI is inviting guests to bake cinnamon rolls at CeTIBAR for the second time. This time\, the event will be held in easy language. Guests can learn about robots and watch them decorate the sweet treats. \nRegistration is open until November 11 and can be done by emailing Jessica Gollmann: jessica.gollmann@tu-dresden.de
URL:https://ceti.one/events/cinnamon-rolls-baking-in-the-cetibar/
LOCATION:CeTI\, BAR Barkhausen-Bau\, Georg-Schumann-Str. 9\, Dresden\, 01187\, Germany
CATEGORIES:Event
ATTACH;FMTTYPE=image/jpeg:https://ceti.one/wp-content/uploads/DSCF5802-scaled.jpg
END:VEVENT
BEGIN:VEVENT
DTSTART;TZID=Europe/Berlin:20260115T130000
DTEND;TZID=Europe/Berlin:20260115T143000
DTSTAMP:20260424T094515
CREATED:20251208T141453Z
LAST-MODIFIED:20251208T145933Z
UID:19191-1768482000-1768487400@ceti.one
SUMMARY:UNI LIVE
DESCRIPTION:What happens after high school graduation? Which degree program is right for me? \nThe next UNILIVE university information day will take place at TU Dresden on January 15\, 2026. Interested people can gain insight into the research areas of CeTI and CeTIBAR.
URL:https://ceti.one/events/uni-live/
LOCATION:TU Dresden\, Helmholtzstraße 10\, Dresden\, 01062
CATEGORIES:Event
ATTACH;FMTTYPE=image/png:https://ceti.one/wp-content/uploads/Src.png
END:VEVENT
BEGIN:VEVENT
DTSTART;VALUE=DATE:20260209
DTEND;VALUE=DATE:20260215
DTSTAMP:20260424T094515
CREATED:20260130T080115Z
LAST-MODIFIED:20260130T083930Z
UID:19654-1770602400-1771034399@ceti.one
SUMMARY:Holiday Robotics Program
DESCRIPTION:During our holiday program at CeTI\, students are spending an exciting week full of technology\, creativity\, and teamwork. \nAfter getting to know each other and exploring CeTI’s robotics demos\, they are working hands-on in the Robolab. Throughout the week\, they are deepening their skills\, tackling new challenges\, and developing their own solutions. A special highlight is the CeTI-BAR\, where everyone enjoys homemade cinnamon rolls together. The program concludes with a Lego module and programming session\, followed by presentations of their projects to parents in the afternoon.
URL:https://ceti.one/events/holiday-robotics-program/
LOCATION:TU Dresden\, Helmholtzstraße 10\, Dresden\, 01062
CATEGORIES:Event
ATTACH;FMTTYPE=image/jpeg:https://ceti.one/wp-content/uploads/2-2024_02_11_CETI-Workshop-web-037.jpg
END:VEVENT
BEGIN:VEVENT
DTSTART;VALUE=DATE:20260423
DTEND;VALUE=DATE:20260425
DTSTAMP:20260424T094515
CREATED:20251208T152234Z
LAST-MODIFIED:20260415T132147Z
UID:19203-1776909600-1776995999@ceti.one
SUMMARY:Girls' Day 2026
DESCRIPTION:Female students are given the opportunity to meet role models and get a firsthand impression of the institution. \nCeTI will hold workshops for interested girls together with QUARKS\, RIG\, and SKR.
URL:https://ceti.one/events/girlsday-2026/
LOCATION:TU Dresden\, Helmholtzstraße 10\, Dresden\, 01062
CATEGORIES:Event,Girls Day
ATTACH;FMTTYPE=image/jpeg:https://ceti.one/wp-content/uploads/22159_ced1ee8d0525300.jpg
END:VEVENT
BEGIN:VEVENT
DTSTART;TZID=Europe/Berlin:20260426T100000
DTEND;TZID=Europe/Berlin:20260426T150000
DTSTAMP:20260424T094515
CREATED:20260413T143206Z
LAST-MODIFIED:20260413T143447Z
UID:20353-1777197600-1777215600@ceti.one
SUMMARY:Parent-Child Workshop at CeTI
DESCRIPTION:On April 26\, 2026\, the CeTI RoboLab will once again open its doors to parent-child pairs. \nWho can participate? All children between the ages of 8 and 14\, whether girls or boys\, are warmly invited to dive into the world of robotics together with a parent\, family member\, or another guardian. \nWhat can you expect? In our workshop\, you can program real robotic arms together\, interact with the famous robot dog Spot and the humanoid robot Ameca\, and discover just how much fun technology can be! Through play and creativity\, you’ll learn how humans and machines work together—teamwork is key! \nAnd what else? Of course\, there will be pizza again\, exciting conversations\, and plenty of opportunities to experiment\, marvel\, and laugh. \nQuestions? Contact: marcus.kotte@tu-dresden.de
URL:https://ceti.one/events/parent-child-workshop-at-ceti/
LOCATION:CeTI\, BAR Barkhausen-Bau\, Georg-Schumann-Str. 9\, Dresden\, 01187\, Germany
CATEGORIES:Event
ATTACH;FMTTYPE=image/jpeg:https://ceti.one/wp-content/uploads/A7407778-scaled.jpg
END:VEVENT
BEGIN:VEVENT
DTSTART;VALUE=DATE:20260606
DTEND;VALUE=DATE:20260608
DTSTAMP:20260424T094515
CREATED:20260410T071903Z
LAST-MODIFIED:20260410T072820Z
UID:20330-1780711200-1780797599@ceti.one
SUMMARY:UNIDAY at TU Dresden
DESCRIPTION:Learn about our wide range of degree programs\, get to know the university\, and find out more about everything related to studying. CeTI will present its research as a Cluster of Excellence.
URL:https://ceti.one/events/uniday-at-tu-dresden/
LOCATION:TU Dresden\, Helmholtzstraße 10\, Dresden\, 01062
CATEGORIES:Event
ATTACH;FMTTYPE=image/jpeg:https://ceti.one/wp-content/uploads/54944133760_8f2057b6a5_k.jpg
END:VEVENT
BEGIN:VEVENT
DTSTART;TZID=Europe/Berlin:20260626T170000
DTEND;TZID=Europe/Berlin:20260626T233000
DTSTAMP:20260424T094515
CREATED:20260326T105014Z
LAST-MODIFIED:20260326T105832Z
UID:20150-1782493200-1782516600@ceti.one
SUMMARY:Science Night Dresden 2026
DESCRIPTION:Science Night is back for another round\, and CeTI is once again taking part. We’ll be showcasing our latest prototypes and offering insights into our research through an interactive and engaging format.
URL:https://ceti.one/events/science-night-dresden-2026/
LOCATION:TU Dresden\, Helmholtzstraße 10\, Dresden\, 01062
CATEGORIES:Event
ATTACH;FMTTYPE=image/jpeg:https://ceti.one/wp-content/uploads/20250620_TUD-ComNets-LNdW_374-scaled.jpg
END:VEVENT
END:VCALENDAR