BEGIN:VCALENDAR
VERSION:2.0
PRODID:-//CeTI - ECPv6.15.20//NONSGML v1.0//EN
CALSCALE:GREGORIAN
METHOD:PUBLISH
X-WR-CALNAME:CeTI
X-ORIGINAL-URL:https://ceti.one
X-WR-CALDESC:Events for CeTI
REFRESH-INTERVAL;VALUE=DURATION:PT1H
X-Robots-Tag:noindex
X-PUBLISHED-TTL:PT1H
BEGIN:VTIMEZONE
TZID:Europe/Berlin
BEGIN:DAYLIGHT
TZOFFSETFROM:+0100
TZOFFSETTO:+0200
TZNAME:CEST
DTSTART:20250330T010000
END:DAYLIGHT
BEGIN:STANDARD
TZOFFSETFROM:+0200
TZOFFSETTO:+0100
TZNAME:CET
DTSTART:20251026T010000
END:STANDARD
BEGIN:DAYLIGHT
TZOFFSETFROM:+0100
TZOFFSETTO:+0200
TZNAME:CEST
DTSTART:20260329T010000
END:DAYLIGHT
BEGIN:STANDARD
TZOFFSETFROM:+0200
TZOFFSETTO:+0100
TZNAME:CET
DTSTART:20261025T010000
END:STANDARD
BEGIN:DAYLIGHT
TZOFFSETFROM:+0100
TZOFFSETTO:+0200
TZNAME:CEST
DTSTART:20270328T010000
END:DAYLIGHT
BEGIN:STANDARD
TZOFFSETFROM:+0200
TZOFFSETTO:+0100
TZNAME:CET
DTSTART:20271031T010000
END:STANDARD
END:VTIMEZONE
BEGIN:VEVENT
DTSTART;VALUE=DATE:20260423
DTEND;VALUE=DATE:20260425
DTSTAMP:20260420T050058
CREATED:20251208T152234Z
LAST-MODIFIED:20260415T132147Z
UID:19203-1776909600-1776995999@ceti.one
SUMMARY:Girls' Day 2026
DESCRIPTION:Female students are given the opportunity to meet role models and get a firsthand impression of the institution. \nCeTI will hold workshops for interested girls together with QUARKS\, RIG\, and SKR.
URL:https://ceti.one/events/girlsday-2026/
LOCATION:TU Dresden\, Helmholtzstraße 10\, Dresden\, 01062
CATEGORIES:Event,Girls Day
ATTACH;FMTTYPE=image/jpeg:https://ceti.one/wp-content/uploads/22159_ced1ee8d0525300.jpg
END:VEVENT
BEGIN:VEVENT
DTSTART;TZID=Europe/Berlin:20260426T100000
DTEND;TZID=Europe/Berlin:20260426T150000
DTSTAMP:20260420T050058
CREATED:20260413T143206Z
LAST-MODIFIED:20260413T143447Z
UID:20353-1777197600-1777215600@ceti.one
SUMMARY:Parent-Child Workshop at CeTI
DESCRIPTION:On April 26\, 2026\, the CeTI RoboLab will once again open its doors to parent-child pairs. \nWho can participate? All children between the ages of 8 and 14\, whether girls or boys\, are warmly invited to dive into the world of robotics together with a parent\, family member\, or another guardian. \nWhat can you expect? In our workshop\, you can program real robotic arms together\, interact with the famous robot dog Spot and the humanoid robot Ameca\, and discover just how much fun technology can be! Through play and creativity\, you’ll learn how humans and machines work together—teamwork is key! \nAnd what else? Of course\, there will be pizza again\, exciting conversations\, and plenty of opportunities to experiment\, marvel\, and laugh. \nQuestions? Contact: marcus.kotte@tu-dresden.de
URL:https://ceti.one/events/parent-child-workshop-at-ceti/
LOCATION:CeTI\, BAR Barkhausen-Bau\, Georg-Schumann-Str. 9\, Dresden\, 01187\, Germany
CATEGORIES:Event
ATTACH;FMTTYPE=image/jpeg:https://ceti.one/wp-content/uploads/A7407778-scaled.jpg
END:VEVENT
BEGIN:VEVENT
DTSTART;VALUE=DATE:20260606
DTEND;VALUE=DATE:20260608
DTSTAMP:20260420T050058
CREATED:20260410T071903Z
LAST-MODIFIED:20260410T072820Z
UID:20330-1780711200-1780797599@ceti.one
SUMMARY:UNIDAY at TU Dresden
DESCRIPTION:Learn about our wide range of degree programs\, get to know the university\, and find out more about everything related to studying. CeTI will present its research as a Cluster of Excellence.
URL:https://ceti.one/events/uniday-at-tu-dresden/
LOCATION:TU Dresden\, Helmholtzstraße 10\, Dresden\, 01062
CATEGORIES:Event
ATTACH;FMTTYPE=image/jpeg:https://ceti.one/wp-content/uploads/54944133760_8f2057b6a5_k.jpg
END:VEVENT
BEGIN:VEVENT
DTSTART;TZID=Europe/Berlin:20260626T170000
DTEND;TZID=Europe/Berlin:20260626T233000
DTSTAMP:20260420T050058
CREATED:20260326T105014Z
LAST-MODIFIED:20260326T105832Z
UID:20150-1782493200-1782516600@ceti.one
SUMMARY:Science Night Dresden 2026
DESCRIPTION:Science Night is back for another round\, and CeTI is once again taking part. We’ll be showcasing our latest prototypes and offering insights into our research through an interactive and engaging format.
URL:https://ceti.one/events/science-night-dresden-2026/
LOCATION:TU Dresden\, Helmholtzstraße 10\, Dresden\, 01062
CATEGORIES:Event
ATTACH;FMTTYPE=image/jpeg:https://ceti.one/wp-content/uploads/20250620_TUD-ComNets-LNdW_374-scaled.jpg
END:VEVENT
END:VCALENDAR