BEGIN:VCALENDAR
VERSION:2.0
PRODID:-//CeTI - ECPv6.15.20//NONSGML v1.0//EN
CALSCALE:GREGORIAN
METHOD:PUBLISH
X-ORIGINAL-URL:https://ceti.one
X-WR-CALDESC:Events for CeTI
REFRESH-INTERVAL;VALUE=DURATION:PT1H
X-Robots-Tag:noindex
X-PUBLISHED-TTL:PT1H
BEGIN:VTIMEZONE
TZID:Europe/Berlin
BEGIN:DAYLIGHT
TZOFFSETFROM:+0100
TZOFFSETTO:+0200
TZNAME:CEST
DTSTART:20230326T010000
END:DAYLIGHT
BEGIN:STANDARD
TZOFFSETFROM:+0200
TZOFFSETTO:+0100
TZNAME:CET
DTSTART:20231029T010000
END:STANDARD
BEGIN:DAYLIGHT
TZOFFSETFROM:+0100
TZOFFSETTO:+0200
TZNAME:CEST
DTSTART:20240331T010000
END:DAYLIGHT
BEGIN:STANDARD
TZOFFSETFROM:+0200
TZOFFSETTO:+0100
TZNAME:CET
DTSTART:20241027T010000
END:STANDARD
BEGIN:DAYLIGHT
TZOFFSETFROM:+0100
TZOFFSETTO:+0200
TZNAME:CEST
DTSTART:20250330T010000
END:DAYLIGHT
BEGIN:STANDARD
TZOFFSETFROM:+0200
TZOFFSETTO:+0100
TZNAME:CET
DTSTART:20251026T010000
END:STANDARD
END:VTIMEZONE
BEGIN:VEVENT
DTSTART;TZID=Europe/Berlin:20241017T103000
DTEND;TZID=Europe/Berlin:20241017T120000
DTSTAMP:20260420T170557
CREATED:20240920T102004Z
LAST-MODIFIED:20240920T140805Z
UID:16672-1729161000-1729166400@ceti.one
SUMMARY:Workshop: Intelligent help in medicine
DESCRIPTION:Are you interested in artificial intelligence and robotics in medicine? \nAs part of the exhibition “Dr. Zukunft – Medizintechnik aus der Dresdner Wissenschaft” at the COSMO Wissenschaftsforum\, which will take place from October 1\, 2024 to February 28\, 2025\, CeTI will also be represented with a free workshop on October 17. \nThe workshop will focus on intelligent assistance in medicine & exciting insights into research on human-machine interaction. In cooperation with the NCT\, scientists will demonstrate future medical work with robotics. Afterwards\, you can try out various devices yourself and experience how they work. \nAdmission is free. Pre-registration with the subject “cosmo” at anna.unger@tu-dresden.de.
URL:https://ceti.one/events/workshop-intelligent-help-in-medicine/
LOCATION:Private: COSMO Wissenschaftsforum\, Schloßstr. 2\, Dresden\, 01067
CATEGORIES:Event,Workshop
ATTACH;FMTTYPE=image/jpeg:https://ceti.one/wp-content/uploads/Fzo9yx3WYAEtL9a-scaled.jpeg
END:VEVENT
END:VCALENDAR