BEGIN:VCALENDAR
VERSION:2.0
PRODID:-//CeTI - ECPv6.15.20//NONSGML v1.0//EN
CALSCALE:GREGORIAN
METHOD:PUBLISH
X-ORIGINAL-URL:https://ceti.one
X-WR-CALDESC:Events for CeTI
REFRESH-INTERVAL;VALUE=DURATION:PT1H
X-Robots-Tag:noindex
X-PUBLISHED-TTL:PT1H
BEGIN:VTIMEZONE
TZID:Europe/Berlin
BEGIN:DAYLIGHT
TZOFFSETFROM:+0100
TZOFFSETTO:+0200
TZNAME:CEST
DTSTART:20210328T010000
END:DAYLIGHT
BEGIN:STANDARD
TZOFFSETFROM:+0200
TZOFFSETTO:+0100
TZNAME:CET
DTSTART:20211031T010000
END:STANDARD
BEGIN:DAYLIGHT
TZOFFSETFROM:+0100
TZOFFSETTO:+0200
TZNAME:CEST
DTSTART:20220327T010000
END:DAYLIGHT
BEGIN:STANDARD
TZOFFSETFROM:+0200
TZOFFSETTO:+0100
TZNAME:CET
DTSTART:20221030T010000
END:STANDARD
BEGIN:DAYLIGHT
TZOFFSETFROM:+0100
TZOFFSETTO:+0200
TZNAME:CEST
DTSTART:20230326T010000
END:DAYLIGHT
BEGIN:STANDARD
TZOFFSETFROM:+0200
TZOFFSETTO:+0100
TZNAME:CET
DTSTART:20231029T010000
END:STANDARD
END:VTIMEZONE
BEGIN:VEVENT
DTSTART;TZID=Europe/Berlin:20220507T190000
DTEND;TZID=Europe/Berlin:20220507T210000
DTSTAMP:20260423T211615
CREATED:20220328T075158Z
LAST-MODIFIED:20220331T062926Z
UID:7545-1651950000-1651957200@ceti.one
SUMMARY:NCT/UCC Benefizkonzert - Takte gegen Krebs
DESCRIPTION:NCT/UCC Benefizkonzert – Takte gegen Krebs\nDas Nationale Centrum für Tumorerkrankungen Dresden (NCT/UCC) Dresden lädt zu einer musikalischen und wissenschaftlichen Entdeckungsreise ein. Freuen Sie sich auf viele ungewöhnliche Instrumente und auf Musik von Klassik\, über Jazz und Weltmusik bis hin zu experimenteller Musik. Die Reise nimmt zudem Kurs auf die Zukunft der modernen Krebschirurgie. \nEs musizieren: Henry Schneider (Moderation\, Viola\, singende Säge\, Nyckelharpa)\, Erwin Stache (Musik-Objekte\, Akkordeon)\, Hayden Chisholm (Saxophon\, Dudelsack)\, Evi Filippou (Percussion)\, Wolfgang Heisig (Phonola\, Klavier)\, Gareth Lubbe (Viola\, Obertongesang\, Klavier)\, Robert Lucaciu (Kontrabass)\, Felicitas La Rosée (Klavier). \nDas Benefizkonzert findet zugunsten des Lotsendiensts für Patientinnen und Patienten am NCT/UCC statt. Die Lotsen informieren\, haben Zeit für Gespräche und können zu Untersuchungen und Arztgesprächen begleiten.
URL:https://ceti.one/events/nct-ucc-benefizkonzert-takte-gegen-krebs-2/
LOCATION:COMÖDIE Dresden\, Freiberger Str. 39\, Dresden\, 01067\, Germany
CATEGORIES:Event
END:VEVENT
BEGIN:VEVENT
DTSTART;VALUE=DATE:20220512
DTEND;VALUE=DATE:20220514
DTSTAMP:20260423T211615
CREATED:20220328T070831Z
LAST-MODIFIED:20220404T062120Z
UID:7536-1652320800-1652407199@ceti.one
SUMMARY:7th IEEE 5G++ Summit Dresden
DESCRIPTION:7th IEEE 5G++ Summit Dresden\nIEEE 5G++ Summit Dresden has become a prominent annual fixture on the road to 6G. The well-known high-impact conference brings together industry leaders\, innovators\, and researchers from industry and academia to exchange ideas that will help to drive standards and rapid deployment of 5G++ technologies. \nThe IEEE 5G++ Summit Dresden takes a holistic approach to 5G++ system design\, ranging from silicon hardware\, wireless interfaces\, networks\, edge clouds all the way up to Tactile Internet applications. \nOver the past 6 years\, there was great success with four physical events at the Dresden Congress Center and two virtual events in 2020 and 2021\, due to the global travel restrictions. For 2022\, the 5G++ Summit returs to the tried and true format as a physical event\, with the option of limited virtual participation. The summit and exhibition will take place on May 12\, 2022 atthe new venue\, Messe Dresden.
URL:https://ceti.one/events/5g-summit-dresden/
LOCATION:Messe Dresden\, Messering 6\, Dresden\, 01067\, Germany
CATEGORIES:Event
END:VEVENT
BEGIN:VEVENT
DTSTART;VALUE=DATE:20220521
DTEND;VALUE=DATE:20220523
DTSTAMP:20260423T211615
CREATED:20220328T073646Z
LAST-MODIFIED:20220328T085201Z
UID:7543-1653098400-1653184799@ceti.one
SUMMARY:UNI Tag
DESCRIPTION:UNI Tag – Hochschulinformationstag der TU Dresden\n\nWie weiter nach dem Abitur? Wie weiter nach dem Bachelor? Antworten gibt es am 21. Mai 2022 zum UNI-TAG\, dem Tag der offenen Tür\, ausführlich zu den Studienmöglichkeiten und Studienabschlüssen\, zu Studienvoraussetzungen und Bewerbungsmodalitäten sowie zu den Themen Studienfinanzierung und Wohnen.
URL:https://ceti.one/events/uni-tag/
LOCATION:Technische Universität Dresden\, Georg-Schumann-Str. 11\, Dresden\, 01187
CATEGORIES:Event
END:VEVENT
END:VCALENDAR