BEGIN:VCALENDAR
VERSION:2.0
PRODID:-//CeTI - ECPv6.15.20//NONSGML v1.0//EN
CALSCALE:GREGORIAN
METHOD:PUBLISH
X-ORIGINAL-URL:https://ceti.one
X-WR-CALDESC:Events for CeTI
REFRESH-INTERVAL;VALUE=DURATION:PT1H
X-Robots-Tag:noindex
X-PUBLISHED-TTL:PT1H
BEGIN:VTIMEZONE
TZID:Europe/Berlin
BEGIN:DAYLIGHT
TZOFFSETFROM:+0100
TZOFFSETTO:+0200
TZNAME:CEST
DTSTART:20210328T010000
END:DAYLIGHT
BEGIN:STANDARD
TZOFFSETFROM:+0200
TZOFFSETTO:+0100
TZNAME:CET
DTSTART:20211031T010000
END:STANDARD
BEGIN:DAYLIGHT
TZOFFSETFROM:+0100
TZOFFSETTO:+0200
TZNAME:CEST
DTSTART:20220327T010000
END:DAYLIGHT
BEGIN:STANDARD
TZOFFSETFROM:+0200
TZOFFSETTO:+0100
TZNAME:CET
DTSTART:20221030T010000
END:STANDARD
BEGIN:DAYLIGHT
TZOFFSETFROM:+0100
TZOFFSETTO:+0200
TZNAME:CEST
DTSTART:20230326T010000
END:DAYLIGHT
BEGIN:STANDARD
TZOFFSETFROM:+0200
TZOFFSETTO:+0100
TZNAME:CET
DTSTART:20231029T010000
END:STANDARD
END:VTIMEZONE
BEGIN:VEVENT
DTSTART;TZID=Europe/Berlin:20220708T170000
DTEND;TZID=Europe/Berlin:20220708T235900
DTSTAMP:20260423T173205
CREATED:20220517T111148Z
LAST-MODIFIED:20220520T072318Z
UID:7862-1657299600-1657324740@ceti.one
SUMMARY:Lange Nacht der Wissenschaften
DESCRIPTION:Dresdner Lange Nacht der Wissenschaften\n\nEinmal im Jahr öffnen Dresdner Hochschulen\, außeruniversitäre Forschungseinrichtungen und wissenschaftsnahe Unternehmen ihre Türen für die Öffentlichkeit. Im gesamten Stadtgebiet laden unterschiedlichste Formate dazu ein\, Naturwissenschaft und Technik\, Forschung und Innovation\, Kunst und Kultur aus unmittelbarer Nähe zu erleben. Von 17:00-00:00 Uhr erwartet alle Interessierten ein bunt gefächertes Programm an Vorträgen\, Experimenten\, Führungen und Mitmachshows. Eingeladen sind Studierende\, Familien\, Seniorinnen sowie Senioren und selbstverständlich auch die kleinen Forscher und Forscherinnen von morgen\, kurz: alle Nachtschwärmer und Nachtschwärmerinnen\, die Forschung interaktiv erleben und das eigene Wissen erweitern möchten.
URL:https://ceti.one/events/lange-nacht-der-wissenschaften/
LOCATION:Dresden\, Dresden\, Germany
CATEGORIES:Event
END:VEVENT
BEGIN:VEVENT
DTSTART;VALUE=DATE:20220726
DTEND;VALUE=DATE:20220728
DTSTAMP:20260423T173205
CREATED:20220718T062539Z
LAST-MODIFIED:20220817T073605Z
UID:8118-1658800800-1658887199@ceti.one
SUMMARY:Sommeruniversität
DESCRIPTION:Sommeruniversität\nDie Sommeruniversität ermöglicht Schüler:innen\, die sich für Mathematik\, Informatik\, Naturwissenschaft und Technik (MINT) interessieren\, eine Woche lang das Studierendenleben an der TU Dresden kennenzulernen. \nWährend der Sommeruniversität erhalten die Studieninteressierten Einblicke in Institute\, Forschungseinrichtungen sowie Labore und können selbst aktiv werden. In Gesprächen mit Wissenschaftler:innen erfahren sie mehr über deren aktuelle Forschung und die MINT-Studiengänge der Universität. Besuche in Unternehmen ermöglichen zudem Einblicke in einige Berufsfelder. \nZusätzlich kommen die Teilnehmenden mit Studierenden ins Gespräch und erfahren mehr über Studienfinanzierung\, Wohnheime und Bibliotheken. Die Abendveranstaltungen ermöglichen außerdem\, sich untereinander auszutauschen und Dresden zu entdecken.
URL:https://ceti.one/events/sommeruniversitat/
LOCATION:Technische Universität Dresden\, Georg-Schumann-Str. 11\, Dresden\, 01187
CATEGORIES:Event
ATTACH;FMTTYPE=image/jpeg:https://ceti.one/wp-content/uploads/LNDW-Dresden-by-Tommy-Halfter-50.jpg
END:VEVENT
END:VCALENDAR