BEGIN:VCALENDAR
VERSION:2.0
PRODID:-//CeTI - ECPv6.15.20//NONSGML v1.0//EN
CALSCALE:GREGORIAN
METHOD:PUBLISH
X-WR-CALNAME:CeTI
X-ORIGINAL-URL:https://ceti.one
X-WR-CALDESC:Events for CeTI
REFRESH-INTERVAL;VALUE=DURATION:PT1H
X-Robots-Tag:noindex
X-PUBLISHED-TTL:PT1H
BEGIN:VTIMEZONE
TZID:Europe/Berlin
BEGIN:DAYLIGHT
TZOFFSETFROM:+0100
TZOFFSETTO:+0200
TZNAME:CEST
DTSTART:20210328T010000
END:DAYLIGHT
BEGIN:STANDARD
TZOFFSETFROM:+0200
TZOFFSETTO:+0100
TZNAME:CET
DTSTART:20211031T010000
END:STANDARD
BEGIN:DAYLIGHT
TZOFFSETFROM:+0100
TZOFFSETTO:+0200
TZNAME:CEST
DTSTART:20220327T010000
END:DAYLIGHT
BEGIN:STANDARD
TZOFFSETFROM:+0200
TZOFFSETTO:+0100
TZNAME:CET
DTSTART:20221030T010000
END:STANDARD
BEGIN:DAYLIGHT
TZOFFSETFROM:+0100
TZOFFSETTO:+0200
TZNAME:CEST
DTSTART:20230326T010000
END:DAYLIGHT
BEGIN:STANDARD
TZOFFSETFROM:+0200
TZOFFSETTO:+0100
TZNAME:CET
DTSTART:20231029T010000
END:STANDARD
END:VTIMEZONE
BEGIN:VEVENT
DTSTART;VALUE=DATE:20221004
DTEND;VALUE=DATE:20221009
DTSTAMP:20260423T120844
CREATED:20220328T083154Z
LAST-MODIFIED:20220907T124424Z
UID:7563-1664848800-1665194399@ceti.one
SUMMARY:MINT EC-Camp - AI and Big Data
DESCRIPTION:MINT EC-Camp – AI and Big Data\nMINT-EC ist das nationale Excellence-Netzwerk von Schulen mit Sekundarstufe II und hervorragendem mathematisch-naturwissenschaftlich-technischen Schulprofil. Ziel ist es\, die Leuchtturm-Schulen bei ihrer Entwicklung zu MINT-Talentschmieden mit hochkarätigen Angeboten für Schülerinnen und Schüler\, Lehrkräfte und Schulleitungen zu fördern.
URL:https://ceti.one/events/mint-ec-camp-ai-and-big-data/
LOCATION:Technische Universität Dresden\, Georg-Schumann-Str. 11\, Dresden\, 01187
CATEGORIES:Event
ATTACH;FMTTYPE=image/jpeg:https://ceti.one/wp-content/uploads/LNDW-Dresden-by-Tommy-Halfter-35.jpg
END:VEVENT
END:VCALENDAR