BEGIN:VCALENDAR
VERSION:2.0
PRODID:-//CeTI - ECPv6.15.20//NONSGML v1.0//EN
CALSCALE:GREGORIAN
METHOD:PUBLISH
X-ORIGINAL-URL:https://ceti.one
X-WR-CALDESC:Events for CeTI
REFRESH-INTERVAL;VALUE=DURATION:PT1H
X-Robots-Tag:noindex
X-PUBLISHED-TTL:PT1H
BEGIN:VTIMEZONE
TZID:Europe/Berlin
BEGIN:DAYLIGHT
TZOFFSETFROM:+0100
TZOFFSETTO:+0200
TZNAME:CEST
DTSTART:20170326T010000
END:DAYLIGHT
BEGIN:STANDARD
TZOFFSETFROM:+0200
TZOFFSETTO:+0100
TZNAME:CET
DTSTART:20171029T010000
END:STANDARD
BEGIN:DAYLIGHT
TZOFFSETFROM:+0100
TZOFFSETTO:+0200
TZNAME:CEST
DTSTART:20180325T010000
END:DAYLIGHT
BEGIN:STANDARD
TZOFFSETFROM:+0200
TZOFFSETTO:+0100
TZNAME:CET
DTSTART:20181028T010000
END:STANDARD
BEGIN:DAYLIGHT
TZOFFSETFROM:+0100
TZOFFSETTO:+0200
TZNAME:CEST
DTSTART:20190331T010000
END:DAYLIGHT
BEGIN:STANDARD
TZOFFSETFROM:+0200
TZOFFSETTO:+0100
TZNAME:CET
DTSTART:20191027T010000
END:STANDARD
BEGIN:DAYLIGHT
TZOFFSETFROM:+0100
TZOFFSETTO:+0200
TZNAME:CEST
DTSTART:20200329T010000
END:DAYLIGHT
BEGIN:STANDARD
TZOFFSETFROM:+0200
TZOFFSETTO:+0100
TZNAME:CET
DTSTART:20201025T010000
END:STANDARD
END:VTIMEZONE
BEGIN:VEVENT
DTSTART;VALUE=DATE:20180928
DTEND;VALUE=DATE:20190930
DTSTAMP:20260422T204530
CREATED:20191024T092116Z
LAST-MODIFIED:20191216T162541Z
UID:3309-1538100000-1569722399@ceti.one
SUMMARY:Tactile Internet with Human-in-the-Loop
DESCRIPTION:Invited talk for Prof. Dr. Dr. h.c. Frank Fitzek at VDE\, giving insights on the Internet of Things/ Industrie 4.0 and connecting these to CeTI’s Tactile Internet with Humans in the Loop in front of a chosen audience.
URL:https://ceti.one/events/tactile-internet-with-human-in-the-loop-2/
LOCATION:Dresden\, Dresden\, Germany
CATEGORIES:Talk
END:VEVENT
BEGIN:VEVENT
DTSTART;VALUE=DATE:20181101
DTEND;VALUE=DATE:20181104
DTSTAMP:20260422T204530
CREATED:20191024T092118Z
LAST-MODIFIED:20191216T162541Z
UID:3312-1541037600-1541210399@ceti.one
SUMMARY:Tactile Internet with Human-in-the-Loop at DEAR HUMANS
DESCRIPTION:PUBLIC DISPLAY of the first ART SCIENCE LAB. \nNovember 1\, 2018\nNovember 2\, 2018 \nCeTI presents Tactile Internet with Humans in the Loop at DEAR HUMANS\, Dresden
URL:https://ceti.one/events/tactile-internet-with-human-in-the-loop-3/
LOCATION:Technische Universität Dresden\, Georg-Schumann-Str. 11\, Dresden\, 01187
CATEGORIES:Talk
END:VEVENT
BEGIN:VEVENT
DTSTART;VALUE=DATE:20181102
DTEND;VALUE=DATE:20181104
DTSTAMP:20260422T204530
CREATED:20191105T145811Z
LAST-MODIFIED:20191216T162541Z
UID:3676-1541124000-1541210399@ceti.one
SUMMARY:Tactile Internet with Human-in-the-Loop
DESCRIPTION:DEAR HUMANS\, Dresden\, Germany
URL:https://ceti.one/events/tactile-internet-with-human-in-the-loop-copy-2/
LOCATION:Technische Universität Dresden\, Georg-Schumann-Str. 11\, Dresden\, 01187
CATEGORIES:Talk
END:VEVENT
BEGIN:VEVENT
DTSTART;VALUE=DATE:20181112
DTEND;VALUE=DATE:20181114
DTSTAMP:20260422T204530
CREATED:20191024T092118Z
LAST-MODIFIED:20191216T162541Z
UID:3313-1541988000-1542074399@ceti.one
SUMMARY:URLLC for Human Machine Co-working in Industry 4.0.
DESCRIPTION:IEEE Future Networks Tutorial – URLLC for Human Machine Co-working in Industry 4.0.\, Denmark Edition
URL:https://ceti.one/events/urllc-for-human-machine-co-working-in-industry-4-0/
LOCATION:Aalborg\, Aalborg\, Denmark
CATEGORIES:Talk
END:VEVENT
BEGIN:VEVENT
DTSTART;VALUE=DATE:20181114
DTEND;VALUE=DATE:20181116
DTSTAMP:20260422T204530
CREATED:20191024T092121Z
LAST-MODIFIED:20191216T162541Z
UID:3314-1542160800-1542247199@ceti.one
SUMMARY:Tactile Internet with Human-in-the-Loop
DESCRIPTION:
URL:https://ceti.one/events/tactile-internet-with-human-in-the-loop-4/
LOCATION:Poland\, Poland
CATEGORIES:Talk
END:VEVENT
BEGIN:VEVENT
DTSTART;VALUE=DATE:20181114
DTEND;VALUE=DATE:20181116
DTSTAMP:20260422T204530
CREATED:20191028T164305Z
LAST-MODIFIED:20191216T162541Z
UID:3618-1542160800-1542247199@ceti.one
SUMMARY:5G Tactile Internet
DESCRIPTION:Ericsson Radio Tech Day Poland
URL:https://ceti.one/events/5g-tactile-internet/
LOCATION:Poland\, Poland
CATEGORIES:Talk
END:VEVENT
BEGIN:VEVENT
DTSTART;VALUE=DATE:20181130
DTEND;VALUE=DATE:20181202
DTSTAMP:20260422T204530
CREATED:20191024T092122Z
LAST-MODIFIED:20191216T162541Z
UID:3316-1543543200-1543629599@ceti.one
SUMMARY:Tactile Internet with Humans-in-the-Loop
DESCRIPTION:TEWI-Kolloquium
URL:https://ceti.one/events/tactile-internet-with-humans-in-the-loop/
LOCATION:Alpen-Adria-Universität Klagenfurt\, Universitätsstraße 65-67\, Klagenfurt am Wörthersee\, 9020\, Austria
CATEGORIES:Talk
END:VEVENT
BEGIN:VEVENT
DTSTART;VALUE=DATE:20181130
DTEND;VALUE=DATE:20181202
DTSTAMP:20260422T204530
CREATED:20191024T092123Z
LAST-MODIFIED:20191216T162541Z
UID:3317-1543543200-1543629599@ceti.one
SUMMARY:New Research Challenges: The Tactile Internet - with Human-in-the-Loop
DESCRIPTION:Doctoral forum of German Academic Scholarship Foundation
URL:https://ceti.one/events/new-research-challenges-the-tactile-internet-with-human-in-the-loop/
CATEGORIES:Talk
END:VEVENT
END:VCALENDAR