BEGIN:VCALENDAR
VERSION:2.0
PRODID:-//CeTI - ECPv6.15.20//NONSGML v1.0//EN
CALSCALE:GREGORIAN
METHOD:PUBLISH
X-ORIGINAL-URL:https://ceti.one
X-WR-CALDESC:Events for CeTI
REFRESH-INTERVAL;VALUE=DURATION:PT1H
X-Robots-Tag:noindex
X-PUBLISHED-TTL:PT1H
BEGIN:VTIMEZONE
TZID:Europe/Berlin
BEGIN:DAYLIGHT
TZOFFSETFROM:+0100
TZOFFSETTO:+0200
TZNAME:CEST
DTSTART:20170326T010000
END:DAYLIGHT
BEGIN:STANDARD
TZOFFSETFROM:+0200
TZOFFSETTO:+0100
TZNAME:CET
DTSTART:20171029T010000
END:STANDARD
BEGIN:DAYLIGHT
TZOFFSETFROM:+0100
TZOFFSETTO:+0200
TZNAME:CEST
DTSTART:20180325T010000
END:DAYLIGHT
BEGIN:STANDARD
TZOFFSETFROM:+0200
TZOFFSETTO:+0100
TZNAME:CET
DTSTART:20181028T010000
END:STANDARD
BEGIN:DAYLIGHT
TZOFFSETFROM:+0100
TZOFFSETTO:+0200
TZNAME:CEST
DTSTART:20190331T010000
END:DAYLIGHT
BEGIN:STANDARD
TZOFFSETFROM:+0200
TZOFFSETTO:+0100
TZNAME:CET
DTSTART:20191027T010000
END:STANDARD
BEGIN:DAYLIGHT
TZOFFSETFROM:+0100
TZOFFSETTO:+0200
TZNAME:CEST
DTSTART:20200329T010000
END:DAYLIGHT
BEGIN:STANDARD
TZOFFSETFROM:+0200
TZOFFSETTO:+0100
TZNAME:CET
DTSTART:20201025T010000
END:STANDARD
END:VTIMEZONE
BEGIN:VEVENT
DTSTART;VALUE=DATE:20180928
DTEND;VALUE=DATE:20190930
DTSTAMP:20260420T152149
CREATED:20191024T092116Z
LAST-MODIFIED:20191216T162541Z
UID:3309-1538100000-1569722399@ceti.one
SUMMARY:Tactile Internet with Human-in-the-Loop
DESCRIPTION:Invited talk for Prof. Dr. Dr. h.c. Frank Fitzek at VDE\, giving insights on the Internet of Things/ Industrie 4.0 and connecting these to CeTI’s Tactile Internet with Humans in the Loop in front of a chosen audience.
URL:https://ceti.one/events/tactile-internet-with-human-in-the-loop-2/
LOCATION:Dresden\, Dresden\, Germany
CATEGORIES:Talk
END:VEVENT
BEGIN:VEVENT
DTSTART;VALUE=DATE:20190605
DTEND;VALUE=DATE:20190607
DTSTAMP:20260420T152149
CREATED:20191024T092143Z
LAST-MODIFIED:20191216T162518Z
UID:3341-1559700000-1559786399@ceti.one
SUMMARY:Tactile Internet with Human-in-the-Loop
DESCRIPTION:EuroEAP 2019 9th International conference on Electromechanically Active Polymer (EAP) transducers & artificial muscles
URL:https://ceti.one/events/tactile-internet-with-human-in-the-loop-9/
LOCATION:Dresden\, Dresden\, Germany
CATEGORIES:Talk
END:VEVENT
BEGIN:VEVENT
DTSTART;VALUE=DATE:20190606
DTEND;VALUE=DATE:20190608
DTSTAMP:20260420T152149
CREATED:20191024T092144Z
LAST-MODIFIED:20191216T162518Z
UID:3342-1559786400-1559872799@ceti.one
SUMMARY:Notes from a small Island
DESCRIPTION:DE-CIX TechMeeting
URL:https://ceti.one/events/notes-from-a-small-island/
LOCATION:Frankfurt am Main\, Frankfurt am Main\, Germany
CATEGORIES:Talk
END:VEVENT
BEGIN:VEVENT
DTSTART;VALUE=DATE:20190627
DTEND;VALUE=DATE:20190629
DTSTAMP:20260420T152149
CREATED:20191024T092152Z
LAST-MODIFIED:20191216T162518Z
UID:3351-1561600800-1561687199@ceti.one
SUMMARY:Tactile Internet with Human-in-the-Loop
DESCRIPTION:23rd International Dresden Lightweight Engineering Symposium
URL:https://ceti.one/events/taktiles-internet-mit-mensch-maschine-interaktion/
LOCATION:Messe Dresden\, Messering 6\, Dresden\, 01067\, Germany
CATEGORIES:Talk
END:VEVENT
END:VCALENDAR